BEGIN:VCALENDAR
VERSION:2.0
PRODID:-//eventon.com NONSGML v1.0//EN
CALSCALE:GREGORIAN
METHOD:PUBLISH
BEGIN:VEVENT
UID:69e739713ccca
DTSTAMP:20260421T084641Z
DTSTART:20220508T070000Z
DTEND:20220508T100000Z
LOCATION:Dorfbrunnen vor dem Rathaus Im Dorfe\,  33189 Schlangen
SUMMARY:Alleen in Senne und Teutoburger Wald
DESCRIPTION:Vom Schlänger Dorfbrunnen führt die Strecke zunächst entlang
  der prachtvollen Fürstenallee bis zum Kreuzkrug. Von dort folgt die Route
  der Grenze des Truppenübungsplatzes und der Breitenaht\,  vorbei an der K
 astanienallee\,  bis die Hochfläche des ehemaligen Forsthauses Hartröhren
  durchquert wird. Als nächstes wird hier inmitten des Teutoburger Waldes d
 er Dreiflussstein passiert.[..]\nhttps://henningschwarze.com/events/alleen-
 in-senne-und-teutoburger-wald/
URL:https://henningschwarze.com/events/alleen-in-senne-und-teutoburger-wald/
END:VEVENT
END:VCALENDAR