BEGIN:VCALENDAR
VERSION:2.0
PRODID:-//eventon.com NONSGML v1.0//EN
CALSCALE:GREGORIAN
METHOD:PUBLISH
BEGIN:VEVENT
UID:69e5fa6c682cf
DTSTAMP:20260420T100532Z
DTSTART:20220416T130000Z
DTEND:20220416T153000Z
LOCATION:Dorfbrunnen vor dem Rathaus Im Dorfe\,  33189 Schlangen
SUMMARY:Kohlstädter Kalkbergland und Naturerbe Buchenwälder￼
DESCRIPTION:Ausgehend vom Schlänger Dorfbrunnen verlassen wir den Ortskern
  über den Hohlweg und fahren Eingangs des Langen Tals den Hühnerberg hina
 uf. Parallel und oberhalb vom Langen Tal erwarten uns knorrige alte Buchen 
 sowie tolle Fernblicke auf den Teutoburger Wald und über die Senne. Nachde
 m wir den &#8222;Hassel&#8220; erreicht haben führt der[..]\nhttps://henni
 ngschwarze.com/events/kohlstaedter-kalkbergland-und-naturerbe-buchenwaelder
 /
URL:https://henningschwarze.com/events/kohlstaedter-kalkbergland-und-naturerbe-buchenwaelder/
END:VEVENT
END:VCALENDAR