BEGIN:VCALENDAR
VERSION:2.0
PRODID:-//eventon.com NONSGML v1.0//EN
CALSCALE:GREGORIAN
METHOD:PUBLISH
BEGIN:VEVENT
UID:69e7396c9b05e
DTSTAMP:20260421T084636Z
DTSTART:20230108T083000Z
DTEND:20230108T123000Z
LOCATION:Dorfbrunnen vor dem Rathaus Im Dorfe\,  33189 Schlangen
SUMMARY:Radtour inklusive digitalem Waldspaziergang
DESCRIPTION:Bei dieser Tour wird zwar auch Rad gefahren\,  aber im Fokus st
 eht von 11 bis 12 Uhr der Vortrag &#8222;Ein digitaler Waldspaziergang – 
 innovative Fernerkundung von Waldökosystemen&#8220; im Paderborner Naturku
 ndemuseum. Starten wird meine geführte Tour um 9:30 Uhr\,  wie gewohnt am 
 Schlänger Rathaus. Entlang von Strothe und Lippe führt die[..]\nhttps://h
 enningschwarze.com/events/radtour-mit-digitalem-waldspaziergang/
URL:https://henningschwarze.com/events/radtour-mit-digitalem-waldspaziergang/
END:VEVENT
END:VCALENDAR