BEGIN:VCALENDAR
VERSION:2.0
PRODID:-//eventon.com NONSGML v1.0//EN
CALSCALE:GREGORIAN
METHOD:PUBLISH
BEGIN:VEVENT
UID:69e7c56b2a5b9
DTSTAMP:20260421T184355Z
DTSTART:20240211T130000Z
DTEND:20240211T160000Z
LOCATION:Dorfbrunnen vor dem Rathaus Im Dorfe\,  33189 Schlangen
SUMMARY:Auf den Spuren des Klimawandel
DESCRIPTION:Auch in der Gemeinde Schlangen sind die Auswirkungen des Klimaw
 andels unübersehbar. Wo großflächig kranke Fichten entnommen werden muss
 ten\,  sind z.T. bereits neue Bäume angepflanzt worden oder hat eine natü
 rliche Naturverjüngung eingesetzt. Dürre und Starkregenereignisse können
  zu Problemen wie Bodenerosion\,  Wasserknappheit und einer Gefährdung dur
 ch Waldbrände führen. Auf dieser mittelschweren ca.[..]\nhttps://hennings
 chwarze.com/events/auf-den-spuren-des-klimawandel/
URL:https://henningschwarze.com/events/auf-den-spuren-des-klimawandel/
END:VEVENT
END:VCALENDAR